BEGIN:VCALENDAR
VERSION:2.0
PRODID:-//jEvents 2.0 for Joomla//EN
CALSCALE:GREGORIAN
METHOD:PUBLISH
BEGIN:VEVENT
UID:08bdce74d0a64278111b6807a12b7a9d
CATEGORIES:Schüler
CREATED:20221208T180157
SUMMARY:Jahrgang 9: Facharbeit - letzter Abgabetermin
DESCRIPTION:
DTSTAMP:20260421T033013Z
DTSTART;VALUE=DATE:20250217
DTEND;VALUE=DATE:20250218
SEQUENCE:0
TRANSP:OPAQUE
END:VEVENT
END:VCALENDAR