BEGIN:VCALENDAR
VERSION:2.0
PRODID:-//jEvents 2.0 for Joomla//EN
CALSCALE:GREGORIAN
METHOD:PUBLISH
BEGIN:VEVENT
UID:80c0423c8982a48947684f1eff1bf564
CATEGORIES:Schüler
CREATED:20190822T164431
SUMMARY:AG Schnupperstunden
DESCRIPTION:
DTSTAMP:20260419T213954Z
DTSTART:20250923T124000Z
DTEND:20250923T132500Z
SEQUENCE:0
TRANSP:OPAQUE
END:VEVENT
END:VCALENDAR