BEGIN:VCALENDAR
VERSION:2.0
PRODID:-//jEvents 2.0 for Joomla//EN
CALSCALE:GREGORIAN
METHOD:PUBLISH
BEGIN:VEVENT
UID:e785ab423968ed0bff02343f21b2c5ab
CATEGORIES:Schüler
CREATED:20190819T223824
SUMMARY:Nachschreiben Prüfung 10 Mathematik
DESCRIPTION:
DTSTAMP:20260424T103459Z
DTSTART;VALUE=DATE:20260604
DTEND;VALUE=DATE:20240604
SEQUENCE:0
TRANSP:OPAQUE
END:VEVENT
END:VCALENDAR