BEGIN:VCALENDAR
VERSION:2.0
PRODID:-//jEvents 2.0 for Joomla//EN
CALSCALE:GREGORIAN
METHOD:PUBLISH
BEGIN:VEVENT
UID:16fe131877bc58394b0d4e8a4f377cc8
CATEGORIES:Schüler
CREATED:20130801T214328
SUMMARY:Erster Schultag Schuljahr 2025/26
DESCRIPTION:Klasse 7: Treffpunkt 7.45 Uhr auf dem Schulhof\nKlassen 8 bis 10: Treffpunk
 t 9.15 Uhr im Klassenraum \nWiederholer melden sich im Sekretariat.\n
X-ALT-DESC;FMTTYPE=text/html:<p>Klasse 7: Treffpunkt 7.45 Uhr auf dem Schulhof</p><p>Klassen 8 bis 10: T
 reffpunkt 9.15 Uhr im Klassenraum&nbsp;</p><p>Wiederholer melden sich im Se
 kretariat.</p>
DTSTAMP:20260423T123856Z
DTSTART;VALUE=DATE:20250908
DTEND;VALUE=DATE:20250909
SEQUENCE:0
TRANSP:OPAQUE
END:VEVENT
END:VCALENDAR